BEGIN:VCALENDAR
VERSION:2.0
PRODID:-//eventon.com NONSGML v1.0//EN
BEGIN:VEVENT
UID:69e7bdf834209
DTSTAMP:20260421T191208
DTSTART:20260912T090000Z
DTEND:20260913T150000Z
TZID:Europe/London
LOCATION:
SUMMARY:Seafood & Sounds 2026
DESCRIPTION: Old Town Poole & The Quay &#8211; Sat 12th & Sun 13th September 2026 Now in its third year\,  Seafood and Sounds is a vibrant community festival celebrating the very best of locally sourced seafood and talented Dorset musicians\,  all set against the charming backdrop of Old Town Poole and[..]
URL:https://dorsetfoodanddrink.org/events/seafood-sounds-2026
END:VEVENT
END:VCALENDAR